BEGIN:VCALENDAR
VERSION:2.0
PRODID:-//Comal Master Gardener - ECPv6.15.20//NONSGML v1.0//EN
CALSCALE:GREGORIAN
METHOD:PUBLISH
X-ORIGINAL-URL:https://comalmg.org
X-WR-CALDESC:Events for Comal Master Gardener
REFRESH-INTERVAL;VALUE=DURATION:PT1H
X-Robots-Tag:noindex
X-PUBLISHED-TTL:PT1H
BEGIN:VTIMEZONE
TZID:America/Chicago
BEGIN:DAYLIGHT
TZOFFSETFROM:-0600
TZOFFSETTO:-0500
TZNAME:CDT
DTSTART:20250309T080000
END:DAYLIGHT
BEGIN:STANDARD
TZOFFSETFROM:-0500
TZOFFSETTO:-0600
TZNAME:CST
DTSTART:20251102T070000
END:STANDARD
BEGIN:DAYLIGHT
TZOFFSETFROM:-0600
TZOFFSETTO:-0500
TZNAME:CDT
DTSTART:20260308T080000
END:DAYLIGHT
BEGIN:STANDARD
TZOFFSETFROM:-0500
TZOFFSETTO:-0600
TZNAME:CST
DTSTART:20261101T070000
END:STANDARD
BEGIN:DAYLIGHT
TZOFFSETFROM:-0600
TZOFFSETTO:-0500
TZNAME:CDT
DTSTART:20270314T080000
END:DAYLIGHT
BEGIN:STANDARD
TZOFFSETFROM:-0500
TZOFFSETTO:-0600
TZNAME:CST
DTSTART:20271107T070000
END:STANDARD
END:VTIMEZONE
BEGIN:VEVENT
DTSTART;TZID=America/Chicago:20260215T080000
DTEND;TZID=America/Chicago:20260215T170000
DTSTAMP:20260424T124940
CREATED:20260210T175607Z
LAST-MODIFIED:20260210T175607Z
UID:10001587-1771142400-1771174800@comalmg.org
SUMMARY:Podcast: Rooted in Research--A Guide to Successful Gardening in the San Antonio Area
DESCRIPTION:Host: Bexar County Master Gardener Association \nThis new program blends cutting-edge research\, practical application\, and flexible resources focusing on gardening essentials. Episode lengths will vary.\nBill Swanter will speak on the first of the month; special speakers and experts will be hosted on the 15th.\nPrior sessions will be retained on Spotify for future reference and consultation. \nYou will need a Spotify account to access these informational presentations. \nClick here (scroll down the list of events on the left side of the page to see the full agenda) for the agenda (podcasts began January 1) and more information. If the topic on the agenda is colored\, it has been recorded and you can click on it for a direct link to the episode. \n1 CE for each episode attended. \n 
URL:https://comalmg.org/event/podcast-rooted-in-research-a-guide-to-successful-gardening-in-the-san-antonio-area/
LOCATION:TX
ORGANIZER;CN="Bexar County Master Gardeners":MAILTO:President@bexarmg.org
END:VEVENT
END:VCALENDAR