BEGIN:VCALENDAR
VERSION:2.0
PRODID:-//Comal Master Gardener - ECPv6.15.20//NONSGML v1.0//EN
CALSCALE:GREGORIAN
METHOD:PUBLISH
X-WR-CALNAME:Comal Master Gardener
X-ORIGINAL-URL:https://comalmg.org
X-WR-CALDESC:Events for Comal Master Gardener
REFRESH-INTERVAL;VALUE=DURATION:PT1H
X-Robots-Tag:noindex
X-PUBLISHED-TTL:PT1H
BEGIN:VTIMEZONE
TZID:America/Chicago
BEGIN:DAYLIGHT
TZOFFSETFROM:-0600
TZOFFSETTO:-0500
TZNAME:CDT
DTSTART:20250309T080000
END:DAYLIGHT
BEGIN:STANDARD
TZOFFSETFROM:-0500
TZOFFSETTO:-0600
TZNAME:CST
DTSTART:20251102T070000
END:STANDARD
BEGIN:DAYLIGHT
TZOFFSETFROM:-0600
TZOFFSETTO:-0500
TZNAME:CDT
DTSTART:20260308T080000
END:DAYLIGHT
BEGIN:STANDARD
TZOFFSETFROM:-0500
TZOFFSETTO:-0600
TZNAME:CST
DTSTART:20261101T070000
END:STANDARD
BEGIN:DAYLIGHT
TZOFFSETFROM:-0600
TZOFFSETTO:-0500
TZNAME:CDT
DTSTART:20270314T080000
END:DAYLIGHT
BEGIN:STANDARD
TZOFFSETFROM:-0500
TZOFFSETTO:-0600
TZNAME:CST
DTSTART:20271107T070000
END:STANDARD
END:VTIMEZONE
BEGIN:VEVENT
DTSTART;TZID=America/Chicago:20260219T090000
DTEND;TZID=America/Chicago:20260219T140000
DTSTAMP:20260424T124815
CREATED:20260210T172812Z
LAST-MODIFIED:20260210T172812Z
UID:10001585-1771491600-1771509600@comalmg.org
SUMMARY:Tomato Round-Up at Greenie's Urban Farm in San Antonio
DESCRIPTION:Click here for more information\, including classes (1 CE per class attended)\, events\, and opportunity to order the 2026 Rodeo Tomato Polbig F1 Hybrid while available. \nGreenies Urban Farm is located at 1615 Sherman Street\, San Antonio\, TX 78202.
URL:https://comalmg.org/event/tomato-round-up-at-greenies-urban-farm-in-san-antonio/
LOCATION:TX
ORGANIZER;CN="Bexar County Master Gardeners":MAILTO:President@bexarmg.org
END:VEVENT
BEGIN:VEVENT
DTSTART;TZID=America/Chicago:20260219T120000
DTEND;TZID=America/Chicago:20260219T130000
DTSTAMP:20260424T124815
CREATED:20260213T133257Z
LAST-MODIFIED:20260213T133257Z
UID:10001597-1771502400-1771506000@comalmg.org
SUMMARY:Garden Ridge Library Lunch and Learn February 2026
DESCRIPTION:Topic: Propagation Beyond the Seed and Viable Seed Testing\n\nGuest Speakers: Rose Payne and Kelly Stinnett\n\nSurprise plants and giveaways will also be given out after the  presentation.\n\n1 CE\n\nFor more information contact Garden Ridge Library\, Wendy Bippert at 210-651-6570.
URL:https://comalmg.org/event/garden-ridge-library-lunch-and-learn-february-2026/
LOCATION:Garden Ridge Library\, 9400 Municipal Pkwy\, Garden Ridge\, TX\, 78266\, United States
END:VEVENT
END:VCALENDAR