BEGIN:VCALENDAR
VERSION:2.0
PRODID:-//Comal Master Gardener - ECPv6.15.20//NONSGML v1.0//EN
CALSCALE:GREGORIAN
METHOD:PUBLISH
X-ORIGINAL-URL:https://comalmg.org
X-WR-CALDESC:Events for Comal Master Gardener
REFRESH-INTERVAL;VALUE=DURATION:PT1H
X-Robots-Tag:noindex
X-PUBLISHED-TTL:PT1H
BEGIN:VTIMEZONE
TZID:America/Chicago
BEGIN:DAYLIGHT
TZOFFSETFROM:-0600
TZOFFSETTO:-0500
TZNAME:CDT
DTSTART:20250309T080000
END:DAYLIGHT
BEGIN:STANDARD
TZOFFSETFROM:-0500
TZOFFSETTO:-0600
TZNAME:CST
DTSTART:20251102T070000
END:STANDARD
BEGIN:DAYLIGHT
TZOFFSETFROM:-0600
TZOFFSETTO:-0500
TZNAME:CDT
DTSTART:20260308T080000
END:DAYLIGHT
BEGIN:STANDARD
TZOFFSETFROM:-0500
TZOFFSETTO:-0600
TZNAME:CST
DTSTART:20261101T070000
END:STANDARD
BEGIN:DAYLIGHT
TZOFFSETFROM:-0600
TZOFFSETTO:-0500
TZNAME:CDT
DTSTART:20270314T080000
END:DAYLIGHT
BEGIN:STANDARD
TZOFFSETFROM:-0500
TZOFFSETTO:-0600
TZNAME:CST
DTSTART:20271107T070000
END:STANDARD
END:VTIMEZONE
BEGIN:VEVENT
DTSTART;TZID=America/Chicago:20260225T120000
DTEND;TZID=America/Chicago:20260225T130000
DTSTAMP:20260424T124929
CREATED:20260210T181704Z
LAST-MODIFIED:20260210T181704Z
UID:10001589-1772020800-1772024400@comalmg.org
SUMMARY:Entomology Online with Molly Keck
DESCRIPTION:Join Molly Keck\, Texas AgriLife Extension Integrated Pest Management Program Specialist\, for her monthly lunchtime entomology update.  \nClick here to find the link to join in the session. \n\nFebruary – The Forgotten Good Guys – Decomposers \nFUTURE VIRTUAL PRESENTATIONS\, LAST WEDNESDAY OF THE MONTH AT 12PM CT\nMarch – Encouraging and Identifying Native Bees\nApril – Invasive Insects to Watch\nMay – Sci-Fi Insects – Parasitoids\nJune & July – (No Webinars)\nAugust – Dragonflies of Texas\nSeptember – Butterflies and Butterfly Gardening\nOctober – Spooky and Cool Spiders \n1 CE per session
URL:https://comalmg.org/event/entomology-online-with-molly-keck/
LOCATION:Webinar
END:VEVENT
BEGIN:VEVENT
DTSTART;TZID=America/Chicago:20260225T120000
DTEND;TZID=America/Chicago:20260225T130000
DTSTAMP:20260424T124929
CREATED:20260225T144016Z
LAST-MODIFIED:20260225T144334Z
UID:10001598-1772020800-1772024400@comalmg.org
SUMMARY:Molly Keck--Zoom Meeting re Insects!
DESCRIPTION:Join me as I talk about my favorite group of insects – the recyclers! \nThey compost our soil\, reduce trash and waste\, and fill our soil with wonderful organic matter!  They often get a bad rap\, but recycling insects are vital to our ecosystem.  You probably don’t realize all the awesome decomposers in your landscape and probably killed a few thinking they were bad guys. Join me as I go through the common recyclers and talk about ways to encourage them! \nMarch – Encouraging and Identifying Native Bees\nApril – Invasive Insects to Watch\nMay – Sci Fi Insects – Parasitoids\nJune and July – No Webinars\nAugust – Dragonflies of Texas\nSeptember – Butterflies and Butterfly Gardening\nOctober – Spooky and Cool Spiders \n1 CE
URL:https://comalmg.org/event/molly-keck-zoom-meeting-re-insects/
LOCATION:Zoom
END:VEVENT
BEGIN:VEVENT
DTSTART;TZID=America/Chicago:20260225T153000
DTEND;TZID=America/Chicago:20260225T170000
DTSTAMP:20260424T124929
CREATED:20260225T144938Z
LAST-MODIFIED:20260225T145645Z
UID:10001599-1772033400-1772038800@comalmg.org
SUMMARY:2026 Water Wonks Hour Lecture Series #2--Zoom
DESCRIPTION:2026 Water Wonks Hour Lecture Series #2: Building a Grassroots Movement to Protect Urban Waterways in San Antonio \n\n\n\n\n\n\n\n\nThe Greater Edwards Aquifer Alliance is pleased to introduce our 2026 Water Wonks Lecture Series. \nMark your calendars for 3:30 p.m. on the 4th Wednesday of each month. Water Wonks will feature a host of experts sharing innovative ideas and details about their work in the world of water.  The series is a free community education opportunity. \nClick here to register and for more information. \n1 CE
URL:https://comalmg.org/event/2026-water-wonks-hour-lecture-series-2-zoom/
LOCATION:Zoom
END:VEVENT
END:VCALENDAR