BEGIN:VCALENDAR
VERSION:2.0
PRODID:-//Comal Master Gardener - ECPv6.15.20//NONSGML v1.0//EN
CALSCALE:GREGORIAN
METHOD:PUBLISH
X-WR-CALNAME:Comal Master Gardener
X-ORIGINAL-URL:https://comalmg.org
X-WR-CALDESC:Events for Comal Master Gardener
REFRESH-INTERVAL;VALUE=DURATION:PT1H
X-Robots-Tag:noindex
X-PUBLISHED-TTL:PT1H
BEGIN:VTIMEZONE
TZID:America/Chicago
BEGIN:DAYLIGHT
TZOFFSETFROM:-0600
TZOFFSETTO:-0500
TZNAME:CDT
DTSTART:20250309T080000
END:DAYLIGHT
BEGIN:STANDARD
TZOFFSETFROM:-0500
TZOFFSETTO:-0600
TZNAME:CST
DTSTART:20251102T070000
END:STANDARD
BEGIN:DAYLIGHT
TZOFFSETFROM:-0600
TZOFFSETTO:-0500
TZNAME:CDT
DTSTART:20260308T080000
END:DAYLIGHT
BEGIN:STANDARD
TZOFFSETFROM:-0500
TZOFFSETTO:-0600
TZNAME:CST
DTSTART:20261101T070000
END:STANDARD
BEGIN:DAYLIGHT
TZOFFSETFROM:-0600
TZOFFSETTO:-0500
TZNAME:CDT
DTSTART:20270314T080000
END:DAYLIGHT
BEGIN:STANDARD
TZOFFSETFROM:-0500
TZOFFSETTO:-0600
TZNAME:CST
DTSTART:20271107T070000
END:STANDARD
END:VTIMEZONE
BEGIN:VEVENT
DTSTART;TZID=America/Chicago:20260228T100000
DTEND;TZID=America/Chicago:20260228T113000
DTSTAMP:20260424T095815
CREATED:20260120T212030Z
LAST-MODIFIED:20260120T212030Z
UID:10001570-1772272800-1772278200@comalmg.org
SUMMARY:Spring Vegetable Seminar-- Fanick's Garden Center
DESCRIPTION:Free Vegetable seminar at Fanick’s Garden Center in San Antonio with David Rodriguez from the Texas A&M AgriLife Extension service. \nDavid loves to share his knowledge and passion of vegetables for the home gardener. He will show you how to properly select\, plant\, grow\, and harvest your vegetables in this very popular seminar. \nPlease arrive early for best seating and dress for the weather as this will be held outside under a covered building. \n1.5 CEs
URL:https://comalmg.org/event/spring-vegetable-seminar-fanicks-garden-center/
LOCATION:Fanick’s Garden Center\, 1025 Holmgreen Rd\, San Antonio\, TX\, 78220\, United States
END:VEVENT
BEGIN:VEVENT
DTSTART;TZID=America/Chicago:20260228T110000
DTEND;TZID=America/Chicago:20260228T120000
DTSTAMP:20260424T095815
CREATED:20260204T230350Z
LAST-MODIFIED:20260204T230350Z
UID:10001580-1772276400-1772280000@comalmg.org
SUMMARY:Composting for Beginners
DESCRIPTION:Come to Spring Creek Gardens in The Gathering Haus for a beginner friendly seminar on composting. \nLearn how to turn kitchen scraps and yard waste into nutrient rich compost for your garden. \nThe seminar will cover the basics of what to compost\, how to maintain your pile or bin\, and tips for speeding up decomposition. Discover how composting can reduce waste\, enrich your soil\, and support a thriving garden. \nThis seminar is perfect for first time composters or anyone looking to improve their home gardening practices. \nThe seminar is free\, but you must sign up to attend. Click here. \n1 CE
URL:https://comalmg.org/event/composting-for-beginners/
LOCATION:Spring Creek Gardens\, 11355 US-281 N\, Spring Branch\, TX\, 78070\, United States
END:VEVENT
END:VCALENDAR