BEGIN:VCALENDAR
VERSION:2.0
PRODID:-//Comal Master Gardener - ECPv6.15.20//NONSGML v1.0//EN
CALSCALE:GREGORIAN
METHOD:PUBLISH
X-WR-CALNAME:Comal Master Gardener
X-ORIGINAL-URL:https://comalmg.org
X-WR-CALDESC:Events for Comal Master Gardener
REFRESH-INTERVAL;VALUE=DURATION:PT1H
X-Robots-Tag:noindex
X-PUBLISHED-TTL:PT1H
BEGIN:VTIMEZONE
TZID:America/Chicago
BEGIN:DAYLIGHT
TZOFFSETFROM:-0600
TZOFFSETTO:-0500
TZNAME:CDT
DTSTART:20250309T080000
END:DAYLIGHT
BEGIN:STANDARD
TZOFFSETFROM:-0500
TZOFFSETTO:-0600
TZNAME:CST
DTSTART:20251102T070000
END:STANDARD
BEGIN:DAYLIGHT
TZOFFSETFROM:-0600
TZOFFSETTO:-0500
TZNAME:CDT
DTSTART:20260308T080000
END:DAYLIGHT
BEGIN:STANDARD
TZOFFSETFROM:-0500
TZOFFSETTO:-0600
TZNAME:CST
DTSTART:20261101T070000
END:STANDARD
BEGIN:DAYLIGHT
TZOFFSETFROM:-0600
TZOFFSETTO:-0500
TZNAME:CDT
DTSTART:20270314T080000
END:DAYLIGHT
BEGIN:STANDARD
TZOFFSETFROM:-0500
TZOFFSETTO:-0600
TZNAME:CST
DTSTART:20271107T070000
END:STANDARD
END:VTIMEZONE
BEGIN:VEVENT
DTSTART;TZID=America/Chicago:20260306T090000
DTEND;TZID=America/Chicago:20260307T130000
DTSTAMP:20260424T112530
CREATED:20260210T165208Z
LAST-MODIFIED:20260210T165208Z
UID:10001583-1772787600-1772888400@comalmg.org
SUMMARY:Cultivate!--Earth Friendly Gardening and Landscaping Online
DESCRIPTION:Presented by Bexar County Master Gardeners \nSix different gardening sessions–all sessions are free but registration is required. Donations are gratefully accepted. \nClick here for information about the six sessions and to register as well as donate. \nFor CULTIVATE! questions\, email CULTIVATE@bexarmg.org \n1 CE for each session attended
URL:https://comalmg.org/event/cultivate-earth-friendly-gardening-and-landscaping-online/
LOCATION:Webinar
ORGANIZER;CN="Bexar County Master Gardeners":MAILTO:President@bexarmg.org
END:VEVENT
BEGIN:VEVENT
DTSTART;TZID=America/Chicago:20260307T080000
DTEND;TZID=America/Chicago:20260307T170000
DTSTAMP:20260424T112530
CREATED:20260307T070913Z
LAST-MODIFIED:20260307T070913Z
UID:10001616-1772870400-1772902800@comalmg.org
SUMMARY:Green Jay Gardens 5th Annual SpringFest
DESCRIPTION:JOIN US AS WE CELEBRATE OUR FAVORITE TIME OF YEAR! \nMarch 21 9:00-5:00 and March 22 10:00-3:00 \n\n\nGardening Workshops: \n~Hanging Basket workshop \n~Butterfly Garden Workshop \n~Container Gardening Workshop \nFood Truck \nFREE Wine Tastings  FREE Kid’s Crafts. Prize Giveaways \n 
URL:https://comalmg.org/event/green-jay-gardens-5th-annual-springfest/
LOCATION:Green Jay Gardens\, 100 Elm Grove Road\, Seguin\, 78153\, United States
END:VEVENT
BEGIN:VEVENT
DTSTART;TZID=America/Chicago:20260307T100000
DTEND;TZID=America/Chicago:20260307T113000
DTSTAMP:20260424T112530
CREATED:20260307T053548Z
LAST-MODIFIED:20260307T053548Z
UID:10001602-1772877600-1772883000@comalmg.org
SUMMARY:SPRING VEGETABLE GARDENING
DESCRIPTION:Free Adult Seminar: Spring Vegetable Gardening \n\n\n\n\nJoin us at Milberger’s for a free seminar featuring David Rodriguez\, Extension Horticulturist with Texas A&M AgriLife Extension Service. \nLearn how to take the mystery out of growing a productive vegetable garden. David will share proven Earth-Kind® gardening techniques to help you achieve a healthy\, bountiful harvest this season. He’ll also answer your specific vegetable gardening questions during the session. \nHave questions? Call us at 210-497-3760. \n1.5 CEs
URL:https://comalmg.org/event/spring-vegetable-gardening/
LOCATION:Milberger’s Landscaping & Nursery\,  3920 North Loop 1604\, \, San Antonio\, texas\, 78247
END:VEVENT
BEGIN:VEVENT
DTSTART;TZID=America/Chicago:20260307T110000
DTEND;TZID=America/Chicago:20260307T120000
DTSTAMP:20260424T112530
CREATED:20260204T230907Z
LAST-MODIFIED:20260204T230907Z
UID:10001581-1772881200-1772884800@comalmg.org
SUMMARY:Native Plant & Rainwater Collecting Seminar
DESCRIPTION:In celebration of Spring Creek’s 10-Year Anniversary\, we’re hosting our most requested seminar: a Native Plant & Rainwater Collecting Seminar designed for the Texas Hill Country. \nJoin us at 11AM on March 7th to learn how to create a water-wise\, sustainable landscape using native plants and practical rainwater harvesting techniques—perfect for welcoming spring. \nAttendees will have the opportunity to ask questions and learn directly from the seminar teacher\, gaining insights on selecting the right plants\, capturing and using rainwater efficiently\, and designing a thriving\, eco-friendly garden. Whether you’re a seasoned gardener or just starting out\, this seminar offers practical tips and expert guidance. \nThis event is free\, but you must sign up. Click here. \n1 CE
URL:https://comalmg.org/event/native-plant-rainwater-collecting-seminar/
LOCATION:Spring Creek Gardens\, 11355 US-281 N\, Spring Branch\, TX\, 78070\, United States
END:VEVENT
END:VCALENDAR