BEGIN:VCALENDAR
VERSION:2.0
PRODID:-//Comal Master Gardener - ECPv6.15.20//NONSGML v1.0//EN
CALSCALE:GREGORIAN
METHOD:PUBLISH
X-ORIGINAL-URL:https://comalmg.org
X-WR-CALDESC:Events for Comal Master Gardener
REFRESH-INTERVAL;VALUE=DURATION:PT1H
X-Robots-Tag:noindex
X-PUBLISHED-TTL:PT1H
BEGIN:VTIMEZONE
TZID:America/Chicago
BEGIN:DAYLIGHT
TZOFFSETFROM:-0600
TZOFFSETTO:-0500
TZNAME:CDT
DTSTART:20250309T080000
END:DAYLIGHT
BEGIN:STANDARD
TZOFFSETFROM:-0500
TZOFFSETTO:-0600
TZNAME:CST
DTSTART:20251102T070000
END:STANDARD
BEGIN:DAYLIGHT
TZOFFSETFROM:-0600
TZOFFSETTO:-0500
TZNAME:CDT
DTSTART:20260308T080000
END:DAYLIGHT
BEGIN:STANDARD
TZOFFSETFROM:-0500
TZOFFSETTO:-0600
TZNAME:CST
DTSTART:20261101T070000
END:STANDARD
BEGIN:DAYLIGHT
TZOFFSETFROM:-0600
TZOFFSETTO:-0500
TZNAME:CDT
DTSTART:20270314T080000
END:DAYLIGHT
BEGIN:STANDARD
TZOFFSETFROM:-0500
TZOFFSETTO:-0600
TZNAME:CST
DTSTART:20271107T070000
END:STANDARD
END:VTIMEZONE
BEGIN:VEVENT
DTSTART;TZID=America/Chicago:20260316T170000
DTEND;TZID=America/Chicago:20260316T190000
DTSTAMP:20260424T095851
CREATED:20251120T144712Z
LAST-MODIFIED:20251120T144851Z
UID:10001566-1773680400-1773687600@comalmg.org
SUMMARY:CMG General Meeting March 2026
DESCRIPTION:5:00 Social\n5:30 Business Meeting\n6:00 Speaker: Zane Ziebell\, Westside Community Center site supervisor . Topic: Working in Antarctica\n\n1 VH for attending business meeting\n1 CE for attending speaker event\n\n\nMarch 16th at Westside Community Center. Speaker is Westside’s Supervisor . Topic is “Working in Antarctica”. Time is 5:00 to 7:00pm.
URL:https://comalmg.org/event/cmg-general-meeting-march-2026/
LOCATION:Westside Community Center\, 2932 S IH Frontage Road\, New Braunfels\, TX\, 78130\, United States
END:VEVENT
END:VCALENDAR