BEGIN:VCALENDAR
VERSION:2.0
PRODID:-//Comal Master Gardener - ECPv6.15.20//NONSGML v1.0//EN
CALSCALE:GREGORIAN
METHOD:PUBLISH
X-WR-CALNAME:Comal Master Gardener
X-ORIGINAL-URL:https://comalmg.org
X-WR-CALDESC:Events for Comal Master Gardener
REFRESH-INTERVAL;VALUE=DURATION:PT1H
X-Robots-Tag:noindex
X-PUBLISHED-TTL:PT1H
BEGIN:VTIMEZONE
TZID:America/Chicago
BEGIN:DAYLIGHT
TZOFFSETFROM:-0600
TZOFFSETTO:-0500
TZNAME:CDT
DTSTART:20250309T080000
END:DAYLIGHT
BEGIN:STANDARD
TZOFFSETFROM:-0500
TZOFFSETTO:-0600
TZNAME:CST
DTSTART:20251102T070000
END:STANDARD
BEGIN:DAYLIGHT
TZOFFSETFROM:-0600
TZOFFSETTO:-0500
TZNAME:CDT
DTSTART:20260308T080000
END:DAYLIGHT
BEGIN:STANDARD
TZOFFSETFROM:-0500
TZOFFSETTO:-0600
TZNAME:CST
DTSTART:20261101T070000
END:STANDARD
BEGIN:DAYLIGHT
TZOFFSETFROM:-0600
TZOFFSETTO:-0500
TZNAME:CDT
DTSTART:20270314T080000
END:DAYLIGHT
BEGIN:STANDARD
TZOFFSETFROM:-0500
TZOFFSETTO:-0600
TZNAME:CST
DTSTART:20271107T070000
END:STANDARD
END:VTIMEZONE
BEGIN:VEVENT
DTSTART;TZID=America/Chicago:20260521T110000
DTEND;TZID=America/Chicago:20260521T120000
DTSTAMP:20260423T192101
CREATED:20260330T034350Z
LAST-MODIFIED:20260330T034350Z
UID:10001634-1779361200-1779364800@comalmg.org
SUMMARY:Top Notch Ten: 10 Drought Tolerant Native Perennials
DESCRIPTION:In this class\, learn with Shannon Grace of Texas Bean Freak how to design a beautiful\, low-maintenance landscape with drought-tolerant perennials suited for Texas conditions. \nThis class covers plant selection\, water-wise gardening techniques\, and tips for creating resilient gardens that thrive in heat and limited rainfall. \n1   CE hr
URL:https://comalmg.org/event/top-notch-ten-10-drought-tolerant-native-perennials/
LOCATION:Rainbow Gardens Bandera Location\, 8516 Bandera Rd\, San Antonio\, United States
END:VEVENT
END:VCALENDAR