BEGIN:VCALENDAR
VERSION:2.0
PRODID:-//Comal Master Gardener - ECPv6.15.20//NONSGML v1.0//EN
CALSCALE:GREGORIAN
METHOD:PUBLISH
X-WR-CALNAME:Comal Master Gardener
X-ORIGINAL-URL:https://comalmg.org
X-WR-CALDESC:Events for Comal Master Gardener
REFRESH-INTERVAL;VALUE=DURATION:PT1H
X-Robots-Tag:noindex
X-PUBLISHED-TTL:PT1H
BEGIN:VTIMEZONE
TZID:America/Chicago
BEGIN:DAYLIGHT
TZOFFSETFROM:-0600
TZOFFSETTO:-0500
TZNAME:CDT
DTSTART:20250309T080000
END:DAYLIGHT
BEGIN:STANDARD
TZOFFSETFROM:-0500
TZOFFSETTO:-0600
TZNAME:CST
DTSTART:20251102T070000
END:STANDARD
BEGIN:DAYLIGHT
TZOFFSETFROM:-0600
TZOFFSETTO:-0500
TZNAME:CDT
DTSTART:20260308T080000
END:DAYLIGHT
BEGIN:STANDARD
TZOFFSETFROM:-0500
TZOFFSETTO:-0600
TZNAME:CST
DTSTART:20261101T070000
END:STANDARD
BEGIN:DAYLIGHT
TZOFFSETFROM:-0600
TZOFFSETTO:-0500
TZNAME:CDT
DTSTART:20270314T080000
END:DAYLIGHT
BEGIN:STANDARD
TZOFFSETFROM:-0500
TZOFFSETTO:-0600
TZNAME:CST
DTSTART:20271107T070000
END:STANDARD
BEGIN:DAYLIGHT
TZOFFSETFROM:-0600
TZOFFSETTO:-0500
TZNAME:CDT
DTSTART:20280312T080000
END:DAYLIGHT
BEGIN:STANDARD
TZOFFSETFROM:-0500
TZOFFSETTO:-0600
TZNAME:CST
DTSTART:20281105T070000
END:STANDARD
END:VTIMEZONE
BEGIN:VEVENT
DTSTART;TZID=America/Chicago:20260527T120000
DTEND;TZID=America/Chicago:20260527T130000
DTSTAMP:20260423T220435
CREATED:20260210T182553Z
LAST-MODIFIED:20260210T182553Z
UID:10001592-1779883200-1779886800@comalmg.org
SUMMARY:Entomology Online with Molly Keck
DESCRIPTION:Join Molly Keck\, Texas AgriLife Extension Integrated Pest Management Program Specialist\, for her monthly lunchtime entomology update.  \nClick here to find the link to join in the session. \n\nMay – Sci-Fi Insects – Parasitoids \nFUTURE VIRTUAL PRESENTATIONS\, LAST WEDNESDAY OF THE MONTH AT 12PM CT\nMay – Sci-Fi Insects – Parasitoids\nJune & July – (No Webinars)\nAugust – Dragonflies of Texas\nSeptember – Butterflies and Butterfly Gardening\nOctober – Spooky and Cool Spiders \n1 CE per session
URL:https://comalmg.org/event/entomology-online-with-molly-keck-4/
LOCATION:Webinar
END:VEVENT
BEGIN:VEVENT
DTSTART;TZID=America/Chicago:20260530T083000
DTEND;TZID=America/Chicago:20260530T120000
DTSTAMP:20260423T220435
CREATED:20260410T160942Z
LAST-MODIFIED:20260410T160942Z
UID:10001637-1780129800-1780142400@comalmg.org
SUMMARY:CMG Beginner Vegetable Gardening -- Summer 2026
DESCRIPTION:Learn the basics of vegetable gardening from Comal Master Gardeners. Five class sessions run every Saturday from May 30 to June 27 from 8:30 AM to noon. \nCancellations and refunds will be accepted through May 27. \nCost is $40 which covers all course materials. Snacks and drinks will be provided. \nSign up for this class on the CMG Website — www.comalmg.org
URL:https://comalmg.org/event/cmg-beginner-vegetable-gardening-summer-2026/2026-05-30/
LOCATION:Comal County AgriLife Extension\, 325 Resource Dr\, New Braunfels\, TX\, 78163\, United States
END:VEVENT
BEGIN:VEVENT
DTSTART;TZID=America/Chicago:20260603T100000
DTEND;TZID=America/Chicago:20260603T110000
DTSTAMP:20260423T220435
CREATED:20260307T064342Z
LAST-MODIFIED:20260307T064342Z
UID:10001613-1780480800-1780484400@comalmg.org
SUMMARY:Native Plants: Building a Garden for Pollinators & Wildlife--Rainbow Gardens Bandera Road
DESCRIPTION:Join Laura Jarvis\, owner of The Butterfly Landing\, to learn how native plants can transform your garden into a thriving habitat for pollinators and wildlife. \nThis class explores why native plants are essential to healthy ecosystems\, highlights top native choices for supporting bees\, butterflies\, birds\, and other wildlife\, and offers practical tips for successfully growing them in your home landscape. \n1 CE
URL:https://comalmg.org/event/native-plants-building-a-garden-for-pollinators-wildlife-rainbow-gardens-bandera-road/
LOCATION:Rainbow Gardens Bandera Location\, 8516 Bandera Rd\, San Antonio\, United States
END:VEVENT
BEGIN:VEVENT
DTSTART;TZID=America/Chicago:20260606T083000
DTEND;TZID=America/Chicago:20260606T120000
DTSTAMP:20260423T220435
CREATED:20260410T160942Z
LAST-MODIFIED:20260410T160942Z
UID:10001638-1780734600-1780747200@comalmg.org
SUMMARY:CMG Beginner Vegetable Gardening -- Summer 2026
DESCRIPTION:Learn the basics of vegetable gardening from Comal Master Gardeners. Five class sessions run every Saturday from May 30 to June 27 from 8:30 AM to noon. \nCancellations and refunds will be accepted through May 27. \nCost is $40 which covers all course materials. Snacks and drinks will be provided. \nSign up for this class on the CMG Website — www.comalmg.org
URL:https://comalmg.org/event/cmg-beginner-vegetable-gardening-summer-2026/2026-06-06/
LOCATION:Comal County AgriLife Extension\, 325 Resource Dr\, New Braunfels\, TX\, 78163\, United States
END:VEVENT
BEGIN:VEVENT
DTSTART;TZID=America/Chicago:20260606T083000
DTEND;TZID=America/Chicago:20260606T150000
DTSTAMP:20260423T220435
CREATED:20260204T223147Z
LAST-MODIFIED:20260204T224745Z
UID:10001578-1780734600-1780758000@comalmg.org
SUMMARY:Plumeria and Desert Rose Show and Sale at Fanick's Garden Center
DESCRIPTION:Don’t miss exclusive finds and amazing varieties at the 2nd Annual Plumeria & Desert Rose Show at Fanick’s Garden Center. \nThere will be multiple vendors with unique varieties of plumeria and desert rose for sale\, and FREE seminars brought to you by seasoned experts. \nPerfect event for advanced or novice growers. Don’t miss this blooming opportunity! The show will be under the canopy of large shade trees and an open sided barn with cooling fans. \nFood truck will be on hand\, so come on out and explore the unique world of growing plumerias and desert roses. \n1.5 CEs
URL:https://comalmg.org/event/plumeria-and-desert-rose-show-and-sale-at-fanicks-garden-center/
LOCATION:Fanick’s Garden Center\, 1025 Holmgreen Rd\, San Antonio\, TX\, 78220\, United States
END:VEVENT
BEGIN:VEVENT
DTSTART;TZID=America/Chicago:20260613T083000
DTEND;TZID=America/Chicago:20260613T120000
DTSTAMP:20260423T220435
CREATED:20260410T160942Z
LAST-MODIFIED:20260410T160942Z
UID:10001639-1781339400-1781352000@comalmg.org
SUMMARY:CMG Beginner Vegetable Gardening -- Summer 2026
DESCRIPTION:Learn the basics of vegetable gardening from Comal Master Gardeners. Five class sessions run every Saturday from May 30 to June 27 from 8:30 AM to noon. \nCancellations and refunds will be accepted through May 27. \nCost is $40 which covers all course materials. Snacks and drinks will be provided. \nSign up for this class on the CMG Website — www.comalmg.org
URL:https://comalmg.org/event/cmg-beginner-vegetable-gardening-summer-2026/2026-06-13/
LOCATION:Comal County AgriLife Extension\, 325 Resource Dr\, New Braunfels\, TX\, 78163\, United States
END:VEVENT
BEGIN:VEVENT
DTSTART;TZID=America/Chicago:20260620T083000
DTEND;TZID=America/Chicago:20260620T120000
DTSTAMP:20260423T220435
CREATED:20260410T160942Z
LAST-MODIFIED:20260410T160942Z
UID:10001640-1781944200-1781956800@comalmg.org
SUMMARY:CMG Beginner Vegetable Gardening -- Summer 2026
DESCRIPTION:Learn the basics of vegetable gardening from Comal Master Gardeners. Five class sessions run every Saturday from May 30 to June 27 from 8:30 AM to noon. \nCancellations and refunds will be accepted through May 27. \nCost is $40 which covers all course materials. Snacks and drinks will be provided. \nSign up for this class on the CMG Website — www.comalmg.org
URL:https://comalmg.org/event/cmg-beginner-vegetable-gardening-summer-2026/2026-06-20/
LOCATION:Comal County AgriLife Extension\, 325 Resource Dr\, New Braunfels\, TX\, 78163\, United States
END:VEVENT
BEGIN:VEVENT
DTSTART;TZID=America/Chicago:20260627T083000
DTEND;TZID=America/Chicago:20260627T120000
DTSTAMP:20260423T220435
CREATED:20260410T160942Z
LAST-MODIFIED:20260410T160942Z
UID:10001641-1782549000-1782561600@comalmg.org
SUMMARY:CMG Beginner Vegetable Gardening -- Summer 2026
DESCRIPTION:Learn the basics of vegetable gardening from Comal Master Gardeners. Five class sessions run every Saturday from May 30 to June 27 from 8:30 AM to noon. \nCancellations and refunds will be accepted through May 27. \nCost is $40 which covers all course materials. Snacks and drinks will be provided. \nSign up for this class on the CMG Website — www.comalmg.org
URL:https://comalmg.org/event/cmg-beginner-vegetable-gardening-summer-2026/2026-06-27/
LOCATION:Comal County AgriLife Extension\, 325 Resource Dr\, New Braunfels\, TX\, 78163\, United States
END:VEVENT
BEGIN:VEVENT
DTSTART;TZID=America/Chicago:20260826T120000
DTEND;TZID=America/Chicago:20260826T130000
DTSTAMP:20260423T220435
CREATED:20260210T183021Z
LAST-MODIFIED:20260210T183021Z
UID:10001593-1787745600-1787749200@comalmg.org
SUMMARY:Entomology Online with Molly Keck
DESCRIPTION:Join Molly Keck\, Texas AgriLife Extension Integrated Pest Management Program Specialist\, for her monthly lunchtime entomology update.  \nClick here to find the link to join in the session. \n\nAugust – Dragonflies of Texas \nFUTURE VIRTUAL PRESENTATIONS\, LAST WEDNESDAY OF THE MONTH AT 12PM CT\nJune & July – (No Webinars)\nAugust – Dragonflies of Texas\nSeptember – Butterflies and Butterfly Gardening\nOctober – Spooky and Cool Spiders \n1 CE per session
URL:https://comalmg.org/event/entomology-online-with-molly-keck-5/
LOCATION:Webinar
END:VEVENT
BEGIN:VEVENT
DTSTART;TZID=America/Chicago:20260923T120000
DTEND;TZID=America/Chicago:20260923T130000
DTSTAMP:20260423T220435
CREATED:20260210T183311Z
LAST-MODIFIED:20260210T183311Z
UID:10001594-1790164800-1790168400@comalmg.org
SUMMARY:Entomology Online with Molly Keck
DESCRIPTION:Join Molly Keck\, Texas AgriLife Extension Integrated Pest Management Program Specialist\, for her monthly lunchtime entomology update.  \nClick here to find the link to join in the session. \n\nSeptember – Butterflies and Butterfly Gardening \nFUTURE VIRTUAL PRESENTATIONS\, LAST WEDNESDAY OF THE MONTH AT 12PM CT\nJune & July – (No Webinars)\nSeptember – Butterflies and Butterfly Gardening\nOctober – Spooky and Cool Spiders \n1 CE per session
URL:https://comalmg.org/event/entomology-online-with-molly-keck-6/
LOCATION:Webinar
END:VEVENT
BEGIN:VEVENT
DTSTART;TZID=America/Chicago:20261028T120000
DTEND;TZID=America/Chicago:20261028T130000
DTSTAMP:20260423T220435
CREATED:20260210T190008Z
LAST-MODIFIED:20260210T190008Z
UID:10001596-1793188800-1793192400@comalmg.org
SUMMARY:Entomology Online with Molly Keck
DESCRIPTION:Join Molly Keck\, Texas AgriLife Extension Integrated Pest Management Program Specialist\, for her monthly lunchtime entomology update.  \nClick here to find the link to join in the session. \n\nOctober – Spooky and Cool Spiders \nFUTURE VIRTUAL PRESENTATIONS\, LAST WEDNESDAY OF THE MONTH AT 12PM CT\nJune & July – (No Webinars)\nOctober – Spooky and Cool Spiders \n1 CE per session
URL:https://comalmg.org/event/entomology-online-with-molly-keck-7/
LOCATION:Webinar
END:VEVENT
BEGIN:VEVENT
DTSTART;TZID=America/Chicago:20270302T080000
DTEND;TZID=America/Chicago:20270302T170000
DTSTAMP:20260423T220435
CREATED:20260311T023544Z
LAST-MODIFIED:20260311T023544Z
UID:10001622-1803974400-1804006800@comalmg.org
SUMMARY:2027 CMG Spring Seminar--Save the Date!
DESCRIPTION:Details coming soon.
URL:https://comalmg.org/event/2027-cmg-spring-seminar-save-the-date-2/
LOCATION:TX
END:VEVENT
END:VCALENDAR