BEGIN:VCALENDAR
VERSION:2.0
PRODID:-//Comal Master Gardener - ECPv6.15.20//NONSGML v1.0//EN
CALSCALE:GREGORIAN
METHOD:PUBLISH
X-WR-CALNAME:Comal Master Gardener
X-ORIGINAL-URL:https://comalmg.org
X-WR-CALDESC:Events for Comal Master Gardener
REFRESH-INTERVAL;VALUE=DURATION:PT1H
X-Robots-Tag:noindex
X-PUBLISHED-TTL:PT1H
BEGIN:VTIMEZONE
TZID:America/Chicago
BEGIN:DAYLIGHT
TZOFFSETFROM:-0600
TZOFFSETTO:-0500
TZNAME:CDT
DTSTART:20250309T080000
END:DAYLIGHT
BEGIN:STANDARD
TZOFFSETFROM:-0500
TZOFFSETTO:-0600
TZNAME:CST
DTSTART:20251102T070000
END:STANDARD
BEGIN:DAYLIGHT
TZOFFSETFROM:-0600
TZOFFSETTO:-0500
TZNAME:CDT
DTSTART:20260308T080000
END:DAYLIGHT
BEGIN:STANDARD
TZOFFSETFROM:-0500
TZOFFSETTO:-0600
TZNAME:CST
DTSTART:20261101T070000
END:STANDARD
BEGIN:DAYLIGHT
TZOFFSETFROM:-0600
TZOFFSETTO:-0500
TZNAME:CDT
DTSTART:20270314T080000
END:DAYLIGHT
BEGIN:STANDARD
TZOFFSETFROM:-0500
TZOFFSETTO:-0600
TZNAME:CST
DTSTART:20271107T070000
END:STANDARD
END:VTIMEZONE
BEGIN:VEVENT
DTSTART;TZID=America/Chicago:20260425T110000
DTEND;TZID=America/Chicago:20260425T120000
DTSTAMP:20260425T085619
CREATED:20260410T155639Z
LAST-MODIFIED:20260410T155639Z
UID:10001636-1777114800-1777118400@comalmg.org
SUMMARY:Spring 2026 Picnic for CMG Members & Families
DESCRIPTION:Short general meeting followed by picnic. \nCMG will provide hamburgers\, hot dogs\, buns\, and root-beer floats. \nPlease sign up to bring a dish and say if you are bringing a guest. Bring your own lawn chairs and non-alcoholic drinks. Water will be provided. \nRSVP here. Last day to RSVP is the morning of April 23. \n1 Vol hr.
URL:https://comalmg.org/event/spring-2026-picnic-for-cmg-members-families/
LOCATION:Amphitheatre\, Texas A&M AgriLife Extension\, 325 Resource Drive\, New Braunfels\, TX
END:VEVENT
BEGIN:VEVENT
DTSTART;TZID=America/Chicago:20260425T100000
DTEND;TZID=America/Chicago:20260425T113000
DTSTAMP:20260425T085619
CREATED:20260204T155331Z
LAST-MODIFIED:20260204T155331Z
UID:10001575-1777111200-1777116600@comalmg.org
SUMMARY:Growing Texas Superstar Color Plants--Fanick's in San Antonio
DESCRIPTION:Free seminar at Fanick’s Garden Center with David Rodriguez from the Texas A&M AgriLife Extension service. \nDavid will talk about these great plants for awesome long-term color throughout the year\, as well as attracting butterflies\, hummingbirds\, beneficial insects\, and more. \nPlease arrive early for best seating and dress for the weather as this will be held outside under a covered building. \n1.5 CEs
URL:https://comalmg.org/event/growing-texas-superstar-color-plants-fanicks-in-san-antonio/
LOCATION:Fanick’s Garden Center\, 1025 Holmgreen Rd\, San Antonio\, TX\, 78220\, United States
END:VEVENT
BEGIN:VEVENT
DTSTART;TZID=America/Chicago:20260423T183000
DTEND;TZID=America/Chicago:20260423T193000
DTSTAMP:20260425T085619
CREATED:20260410T162033Z
LAST-MODIFIED:20260410T162033Z
UID:10001643-1776969000-1776972600@comalmg.org
SUMMARY:Monarchs and Milkweed
DESCRIPTION:Learn all about Monarch butterflies and the important role that milkweed plays in their exciting migration cycle. \nClass presented by Dr. Calvin Finch\, retired director of Water Conservation and Technology at the Texas A&M University System. \nYou will learn the most successful way for home gardeners to grow native milkweed so it can expand the number of monarch egg-laying sites in the area. You will get to plant your own milkweed. \nThurs.\, April 23 at 6:30pm\nAT: Wilson County Master Gardeners at 6:30pm\n1103 4th St\, Classroom 10 in Floresville.\nCall 573 282 8953 to reserve a seat.
URL:https://comalmg.org/event/monarchs-and-milkweed/2026-04-23/2/
LOCATION:TX
END:VEVENT
BEGIN:VEVENT
DTSTART;TZID=America/Chicago:20260423T080000
DTEND;TZID=America/Chicago:20260423T170000
DTSTAMP:20260425T085619
CREATED:20260410T162033Z
LAST-MODIFIED:20260410T162033Z
UID:10001642-1776931200-1776963600@comalmg.org
SUMMARY:Monarchs and Milkweed
DESCRIPTION:Learn all about Monarch butterflies and the important role that milkweed plays in their exciting migration cycle. \nClass presented by Dr. Calvin Finch\, retired director of Water Conservation and Technology at the Texas A&M University System. \nYou will learn the most successful way for home gardeners to grow native milkweed so it can expand the number of monarch egg-laying sites in the area. You will get to plant your own milkweed. \nThurs.\, April 23 at 6:30pm\nAT: Wilson County Master Gardeners at 6:30pm\n1103 4th St\, Classroom 10 in Floresville.\nCall 573 282 8953 to reserve a seat.
URL:https://comalmg.org/event/monarchs-and-milkweed/2026-04-23/1/
LOCATION:TX
END:VEVENT
BEGIN:VEVENT
DTSTART;TZID=America/Chicago:20260422T120000
DTEND;TZID=America/Chicago:20260422T130000
DTSTAMP:20260425T085619
CREATED:20260210T182243Z
LAST-MODIFIED:20260210T182243Z
UID:10001591-1776859200-1776862800@comalmg.org
SUMMARY:Entomology Online with Molly Keck
DESCRIPTION:Join Molly Keck\, Texas AgriLife Extension Integrated Pest Management Program Specialist\, for her monthly lunchtime entomology update.  \nClick here to find the link to join in the session. \n\nApril – Invasive Insects to Watch \nFUTURE VIRTUAL PRESENTATIONS\, LAST WEDNESDAY OF THE MONTH AT 12PM CT\nApril – Invasive Insects to Watch\nMay – Sci-Fi Insects – Parasitoids\nJune & July – (No Webinars)\nAugust – Dragonflies of Texas\nSeptember – Butterflies and Butterfly Gardening\nOctober – Spooky and Cool Spiders \n1 CE per session
URL:https://comalmg.org/event/entomology-online-with-molly-keck-3/
LOCATION:Webinar
END:VEVENT
BEGIN:VEVENT
DTSTART;TZID=America/Chicago:20260422T100000
DTEND;TZID=America/Chicago:20260422T110000
DTSTAMP:20260425T085619
CREATED:20260307T063658Z
LAST-MODIFIED:20260307T063658Z
UID:10001611-1776852000-1776855600@comalmg.org
SUMMARY:Pollinator Gardening Quick Start--Rainbow Garden Bandera Road
DESCRIPTION:Ready to turn your garden into a pollinator hotspot? Join us for Pollinator Gardening Quick Start\, a beginner-friendly class designed to help you confidently create a welcoming space for butterflies\, bees\, and hummingbirds.\nLocal pollinator expert Laura Jarvis\, owner of The Butterfly Landing\, will walk you through the essentials of pollinator gardening—from choosing the right plants to placing them for maximum success. You’ll learn which plants support butterflies (including caterpillars)\, hummingbirds\, and bees\, how to arrange plant materials in your landscape\, and simple strategies to attract and sustain pollinators throughout the seasons.\nWe’ll also cover how to identify common butterflies and caterpillars you may spot in your garden\, along with practical tips to encourage more visits to your yard. The class includes handouts\, a Q&A session\, and a guided tour following the seminar to help bring these ideas to life. Perfect for beginners or anyone looking to jump-start a more pollinator-friendly garden. \n1 CE
URL:https://comalmg.org/event/pollinator-gardening-quick-start-rainbow-garden-bandera-road/
LOCATION:Rainbow Gardens Bandera Location\, 8516 Bandera Rd\, San Antonio\, United States
END:VEVENT
BEGIN:VEVENT
DTSTART;TZID=America/Chicago:20260418T100000
DTEND;TZID=America/Chicago:20260418T113000
DTSTAMP:20260425T085619
CREATED:20260410T170327Z
LAST-MODIFIED:20260410T170327Z
UID:10001648-1776506400-1776511800@comalmg.org
SUMMARY:Turf Grass at The Garden Center--San Antonio
DESCRIPTION:David Rodriguez\, AgriLife Horticulture Extension Agent\, will be talking about all things turf grass at The Garden Center. \n1 CE
URL:https://comalmg.org/event/turf-grass-at-the-garden-center-san-antonio/
LOCATION:The Garden Center\, 10682 Bandera Road\, San Antonio\, TX\, 78250\, United States
END:VEVENT
BEGIN:VEVENT
DTSTART;TZID=America/Chicago:20260418T090000
DTEND;TZID=America/Chicago:20260418T160000
DTSTAMP:20260425T085619
CREATED:20260311T022834Z
LAST-MODIFIED:20260311T023042Z
UID:10001620-1776502800-1776528000@comalmg.org
SUMMARY:Plant Sale -- Blanco County Master Gardeners
DESCRIPTION:The Blanco County Master Gardeners annual plant sale: \nWhen: Saturday\, April 18\,   9 AM to 4 PM \nWhere: The Old Blanco County Courthouse Square (i.e.\, 300 Main Street\, Blanco\, TX). \nIn addition to native Texas plants\, wildflowers\, herbs\, and vegetables for sale\, there will be a kids zone with hands-on crafts and learning opportunities.
URL:https://comalmg.org/event/plant-sale-blanco-county-master-gardeners/
LOCATION:TX
END:VEVENT
BEGIN:VEVENT
DTSTART;TZID=America/Chicago:20260418T090000
DTEND;TZID=America/Chicago:20260418T120000
DTSTAMP:20260425T085619
CREATED:20260314T031635Z
LAST-MODIFIED:20260314T031635Z
UID:10001626-1776502800-1776513600@comalmg.org
SUMMARY:Earth Day 2026 at Headwaters at the Comal
DESCRIPTION:Join us for the Annual New Braunfels Community Earth Day & Arbor Day Celebration held at the Headwaters at the Comal.\n\nThe City of New Braunfels\, in partnership with Headwaters at the Comal\, will give away 1\,000+ one-gallon native Texas trees and educating participants about the importance of trees and conservation efforts in our community. The City is also celebrating 38 years of membership in the Tree City USA program. Members of Tree City USA have all committed to protecting trees in their community\, both economically and administratively\, with community tree ordinances and a division within the Parks Department dedicated solely to the maintenance and preservation of the city’s trees.\n\nClick here for more information.
URL:https://comalmg.org/event/earth-day-2026-at-headwaters-at-the-comal/
LOCATION:Headwaters at the Comal\, 333 E. Klingermann\, New Braunfels\,\, TX\, 78130\, United States
END:VEVENT
BEGIN:VEVENT
DTSTART;TZID=America/Chicago:20260418T090000
DTEND;TZID=America/Chicago:20260418T120000
DTSTAMP:20260425T085619
CREATED:20260120T213134Z
LAST-MODIFIED:20260120T213134Z
UID:10001573-1776502800-1776513600@comalmg.org
SUMMARY:Annual Grafting Seminar at Fanick's Garden Center in San Antonio
DESCRIPTION:
URL:https://comalmg.org/event/annual-grafting-seminar-at-fanicks-garden-center-in-san-antonio/
LOCATION:Fanick’s Garden Center\, 1025 Holmgreen Rd\, San Antonio\, TX\, 78220\, United States
END:VEVENT
BEGIN:VEVENT
DTSTART;TZID=America/Chicago:20260417T120000
DTEND;TZID=America/Chicago:20260417T130000
DTSTAMP:20260425T085619
CREATED:20260410T164450Z
LAST-MODIFIED:20260410T165001Z
UID:10001647-1776427200-1776430800@comalmg.org
SUMMARY:Bexar County Master Gardeners Lunch & Learn
DESCRIPTION:Join Bexar County Master Gardener Butch Lee for a lunch-hour presentation on Drought Vegetable Gardening at Bexar County AgriLife Urban Farm Greenies. \n1615 Sherman\, San Antonio\, TX 78202 \n(210) 213-8175 \nPlease sign in with the receptionist upon arrival. \n1 CE
URL:https://comalmg.org/event/bexar-county-master-gardners-lunch-learn/
LOCATION:Greenies\, 1615 Sherman\, San Antonio\, TX\, 78202\, United States
END:VEVENT
BEGIN:VEVENT
DTSTART;TZID=America/Chicago:20260416T120000
DTEND;TZID=America/Chicago:20260416T130000
DTSTAMP:20260425T085619
CREATED:20260410T150437Z
LAST-MODIFIED:20260410T150437Z
UID:10001635-1776340800-1776344400@comalmg.org
SUMMARY:Lunch and Learn Garden Ridge Library
DESCRIPTION:All About Plumerias \nPresented by Sharon Mooney \n1 CE Hr
URL:https://comalmg.org/event/lunch-and-learn-garden-ridge-library/
LOCATION:Garden Ridge Library\, 9400 Municipal Pkwy\, Garden Ridge\, TX\, 78266\, United States
END:VEVENT
BEGIN:VEVENT
DTSTART;TZID=America/Chicago:20260415T100000
DTEND;TZID=America/Chicago:20260415T110000
DTSTAMP:20260425T085619
CREATED:20260330T032222Z
LAST-MODIFIED:20260330T032408Z
UID:10001632-1776247200-1776250800@comalmg.org
SUMMARY:Legume Literacy: All About Beans!
DESCRIPTION:Bean 101 class with Shannon Grace of Texas Bean Freak and Seedy and Shady AF: A Sketchy Gardening Podcast.\nIn this class\, we’ll learn:\n-The league of Legumes (what are they)\n-Bush\, pole\, and runner beans: Bean types and how to choose the best for your space.\n-The benefits of growing beans in your home garden\n-Growing tips and heirloom varieties that grow well in San Antonio \n1 CE hr
URL:https://comalmg.org/event/legume-literacy-all-about-beans/
LOCATION:Rainbow Gardens Bandera Location\, 8516 Bandera Rd\, San Antonio\, United States
END:VEVENT
BEGIN:VEVENT
DTSTART;TZID=America/Chicago:20260411T100000
DTEND;TZID=America/Chicago:20260411T140000
DTSTAMP:20260425T085619
CREATED:20260120T212836Z
LAST-MODIFIED:20260120T212836Z
UID:10001572-1775901600-1775916000@comalmg.org
SUMMARY:San Antonio Rose Society at Fanick's Garden Center
DESCRIPTION:Come to Fanick’s Garden Center in San Antonio and talk to local rose experts about how to fertilize\, prune\, water\, and generally maintain your roses. \nThe San Antonio Rose Society has some of the best rose growers in town who win many awards at area rose shows. \nBecome a member of the Rose Society and receive 10 percent off your purchases at Fanick’s with your membership.
URL:https://comalmg.org/event/san-antonio-rose-society-at-fanicks-garden-center/
LOCATION:TX
END:VEVENT
BEGIN:VEVENT
DTSTART;TZID=America/Chicago:20260411T100000
DTEND;TZID=America/Chicago:20260411T113000
DTSTAMP:20260425T085619
CREATED:20260410T162949Z
LAST-MODIFIED:20260410T162949Z
UID:10001645-1775901600-1775907000@comalmg.org
SUMMARY:Citrus Patio and Landscape
DESCRIPTION:In San Antonio you can successfully grow bountiful citrus from trees planted in your landscape or in containers. The trick is to select varieties that do well in our area and protect them from the occasional freezes that we get. \nIn this free seminar David Rodriguez\, Bexar County Extension Agent\, will go over plant selection\, planting\, watering\, and overall care of citrus trees. \n1.5 CE
URL:https://comalmg.org/event/citrus-patio-and-landscape/
LOCATION:Milberger’s Landscaping & Nursery\,  3920 North Loop 1604\, \, San Antonio\, texas\, 78247
END:VEVENT
BEGIN:VEVENT
DTSTART;TZID=America/Chicago:20260411T090000
DTEND;TZID=America/Chicago:20260411T120000
DTSTAMP:20260425T085619
CREATED:20260225T150903Z
LAST-MODIFIED:20260225T151817Z
UID:10001600-1775898000-1775908800@comalmg.org
SUMMARY:NPSOT - New Braunfels Chapter Native Plant Sale
DESCRIPTION:Native Plant Society of Texas New Braunfels Chapter native plant sale\nApril 11\n9-12 noon\nHeadwaters at the Comal\n333 East Klingemann St.\, New Braunfels
URL:https://comalmg.org/event/npsot-new-braunfels-chapter-native-plant-sale/
LOCATION:Headwaters at the Comal\, 333 E. Klingermann\, New Braunfels\,\, TX\, 78130\, United States
END:VEVENT
BEGIN:VEVENT
DTSTART;TZID=America/Chicago:20260408T190000
DTEND;TZID=America/Chicago:20260408T200000
DTSTAMP:20260425T085619
CREATED:20260330T030456Z
LAST-MODIFIED:20260330T030456Z
UID:10001630-1775674800-1775678400@comalmg.org
SUMMARY:Design Your Dream Garden--Zoom Workshop
DESCRIPTION: Who: Haeley at Native Backyards \n\n\nWhen: Wednesday\, April 8th at 7pm CT \n\n\nWhere: Zoom! (URL will be sent to registrants) \n\n\nIn this 60-minute session\, I’ll show you how to: \n\nCreate a garden layout tailored to your exact space\nUse my simple design process (no overwhelm\, no guesswork)\nApply the 6 key design elements that make gardens look cohesive and beautiful\nBuild your own realistic mockup using my image library of 50 Texas native plants\n\n\n\nYou’ll also get:\n✔ A garden layout template (to design to scale)\n✔ A plant care PDF for Texas natives\n✔ Lifetime access to the recording\n✔ BONUS: Personal feedback from me on your design \n\n\nIf you’ve been wanting to start a native plant garden but don’t know where to begin—this is your starting point.
URL:https://comalmg.org/event/design-your-dream-garden-zoom-workshop/
LOCATION:Zoom
END:VEVENT
BEGIN:VEVENT
DTSTART;TZID=America/Chicago:20260408T100000
DTEND;TZID=America/Chicago:20260408T110000
DTSTAMP:20260425T085619
CREATED:20260307T063304Z
LAST-MODIFIED:20260307T063304Z
UID:10001610-1775642400-1775646000@comalmg.org
SUMMARY:Seed Starting for Pollinator Gardens--Rainbow Gardens Bandera Road
DESCRIPTION:Host plants are the backbone of pollinator conservation–and it all starts with a seed. \nJoin Laura Jarvis\, a respected industry veteran\, as she demystifies the process of growing milkweed and other host plants from seed using techniques refined over decades of experience. \nThis class will cover seed prep\, germination timing\, soil and moisture tips\, and how to raise healthy seedlings ready for the garden. A must-attend for anyone passionate about pollinators and creating meaningful habitat at home. \n1 CE
URL:https://comalmg.org/event/seed-starting-for-pollinator-gardens-rainbow-gardens-bandera-road/
LOCATION:Rainbow Gardens Bandera Location\, 8516 Bandera Rd\, San Antonio\, United States
END:VEVENT
BEGIN:VEVENT
DTSTART;TZID=America/Chicago:20260401T100000
DTEND;TZID=America/Chicago:20260401T110000
DTSTAMP:20260425T085619
CREATED:20260330T031550Z
LAST-MODIFIED:20260330T031550Z
UID:10001631-1775037600-1775041200@comalmg.org
SUMMARY:Backyard Composting at Rainbow Gardens
DESCRIPTION:Backyard Composting–Ready to transform your kitchen scraps and yard waste into nutrient-rich compost? \nJoin Karen Gardner\, Bexar County Master Gardener\, for an engaging seminar on the basics of backyard composting. \nLearn simple\, cost-effective methods to create your own compost\, enrich your soil\, and conserve water. Karen will cover key topics including composting techniques. \n1 CE hr
URL:https://comalmg.org/event/backyard-composting-at-rainbow-gardens/
LOCATION:Rainbow Gardens Bandera Location\, 8516 Bandera Rd\, San Antonio\, United States
END:VEVENT
BEGIN:VEVENT
DTSTART;TZID=America/Chicago:20260328T100000
DTEND;TZID=America/Chicago:20260328T140000
DTSTAMP:20260425T085619
CREATED:20260307T062954Z
LAST-MODIFIED:20260307T062954Z
UID:10001609-1774692000-1774706400@comalmg.org
SUMMARY:The San Antonio Rose Society Visits BOTH Rainbow Gardens San Antonio Locations
DESCRIPTION: Join us for a blooming good time as the San Antonio Rose Society visits BOTH Rainbow Gardens San Antonio locations. \nMembers of the society will be at our Thousand Oaks (2585 Thousand Oaks) and Bandera (8516 Bandera Road) locations\, ready to answer all of your rose-related questions and guide you in selecting the perfect rose for your garden.  \nWhether you’re a rose novice or an experienced enthusiast\, this event is a great opportunity to explore a wide variety of beautiful roses\, learn about the Rose Society and get expert advice from the passionate rose experts. Don’t miss out on this special event—see you there from 10-2.\n \n1 CE for 1 hr attendance
URL:https://comalmg.org/event/the-san-antonio-rose-society-visits-both-rainbow-gardens-san-antonio-locations/
LOCATION:TX
END:VEVENT
BEGIN:VEVENT
DTSTART;TZID=America/Chicago:20260327T100000
DTEND;TZID=America/Chicago:20260327T110000
DTSTAMP:20260425T085619
CREATED:20260307T062202Z
LAST-MODIFIED:20260307T062202Z
UID:10001608-1774605600-1774609200@comalmg.org
SUMMARY:Small Space\, Big Flavor: Container Gardening with Confidence
DESCRIPTION:Perfect for patios\, balconies\, and urban gardens\, this class at Rainbow Gardens Bandera location in San Antonio focuses on how to make the most of your growing space using containers. \nLocal grower Shannon Grace of Texas Bean Freak will share proven techniques for selecting the right plants\, building healthy soil\, and maintaining productive container gardens throughout the season. Learn how to avoid common mistakes\, keep plants thriving in the Texas heat\, and enjoy fresh harvests—even with limited space. Bandera Rd location in San Antonio \n1 CE
URL:https://comalmg.org/event/small-space-big-flavor-container-gardening-with-confidence/
LOCATION:Rainbow Gardens Bandera Location\, 8516 Bandera Rd\, San Antonio\, United States
END:VEVENT
BEGIN:VEVENT
DTSTART;TZID=America/Chicago:20260325T153000
DTEND;TZID=America/Chicago:20260325T163000
DTSTAMP:20260425T085619
CREATED:20260314T025509Z
LAST-MODIFIED:20260314T025509Z
UID:10001624-1774452600-1774456200@comalmg.org
SUMMARY:2026 Water Wonks Hour Lecture Series #3--Zoom Meeting
DESCRIPTION:Topic: How water utilities can protect the water supply \nSpeaker: Suzanne Williams\, Conservation Manager\, Texas Water Company \n\n\n\n\n\n\n\n\nThe Greater Edwards Aquifer Alliance is pleased to introduce our 2026 Water Wonks Lecture Series. \nMark your calendars for 3:30 p.m. on the 4th Wednesday of each month. \nWater Wonks will feature a host of experts sharing innovative ideas and details about their work in the world of water. \nThe series is a free community education opportunity. \nClick here for more information and to sign up for the free lecture–a link to the zoom meeting will be sent to you. \n1 CE
URL:https://comalmg.org/event/2026-water-wonks-hour-lecture-series-3-zoom-meeting/
LOCATION:Zoom
END:VEVENT
BEGIN:VEVENT
DTSTART;TZID=America/Chicago:20260325T120000
DTEND;TZID=America/Chicago:20260325T130000
DTSTAMP:20260425T085619
CREATED:20260210T182040Z
LAST-MODIFIED:20260210T182040Z
UID:10001590-1774440000-1774443600@comalmg.org
SUMMARY:Entomology Online with Molly Keck
DESCRIPTION:Join Molly Keck\, Texas AgriLife Extension Integrated Pest Management Program Specialist\, for her monthly lunchtime entomology update.  \nClick here to find the link to join in the session. \n\nMarch – Encouraging and Identifying Native Bees \nFUTURE VIRTUAL PRESENTATIONS\, LAST WEDNESDAY OF THE MONTH AT 12PM CT\nApril – Invasive Insects to Watch\nMay – Sci-Fi Insects – Parasitoids\nJune & July – (No Webinars)\nAugust – Dragonflies of Texas\nSeptember – Butterflies and Butterfly Gardening\nOctober – Spooky and Cool Spiders \n1 CE per session
URL:https://comalmg.org/event/entomology-online-with-molly-keck-2/
LOCATION:Webinar
END:VEVENT
BEGIN:VEVENT
DTSTART;TZID=America/Chicago:20260325T110000
DTEND;TZID=America/Chicago:20260325T123000
DTSTAMP:20260425T085619
CREATED:20260314T034950Z
LAST-MODIFIED:20260314T034950Z
UID:10001629-1774436400-1774441800@comalmg.org
SUMMARY:Dementia-Friendly Gardening at San Antonio Botanical Garden
DESCRIPTION:Please join us for this dementia-friendly gardening class\, designed for people living with dementia and their caregivers. \nCome ready to get your hands dirty and learn from caring educators and volunteers. \nPlease bring a water bottle and dress for the weather. \nInstructor: Educators\, San Antonio Botanical Garden \nFree\, but registration required. \n1.5 CE
URL:https://comalmg.org/event/dementia-friendly-gardening-at-san-antonio-botanical-garden-2/
LOCATION:San Antonio Botanical Garden\, 555 Funston Place\, San Antonio\, TX\, 78209\, United States
END:VEVENT
BEGIN:VEVENT
DTSTART;TZID=America/Chicago:20260324T180000
DTEND;TZID=America/Chicago:20260324T200000
DTSTAMP:20260425T085619
CREATED:20260314T032750Z
LAST-MODIFIED:20260314T033332Z
UID:10001627-1774375200-1774382400@comalmg.org
SUMMARY:Landowner Workshop--Every Acre Counts
DESCRIPTION:Presented by Comal Conservation \nFeatured Speaker: Clay Thompson\, Director of Land Conservation and Stewardship \nBring your neighbors and your questions. \n  \nRegister here.
URL:https://comalmg.org/event/landowner-workshop-every-acre-counts/
LOCATION:Mammen Family Public Library\, 131 Bulverde Crossing\, TX 78163\, Bulverde\, TX\, 78163\, United States
END:VEVENT
BEGIN:VEVENT
DTSTART;TZID=America/Chicago:20260323T174500
DTEND;TZID=America/Chicago:20260323T200000
DTSTAMP:20260425T085619
CREATED:20260225T152328Z
LAST-MODIFIED:20260225T152328Z
UID:10001601-1774287900-1774296000@comalmg.org
SUMMARY:NPSOT Chapter Meeting – Rooted in Nature: Composting and Native Flora of Texas
DESCRIPTION:Peter Joseph – “Rooted in Nature: Composting and Native Flora of Texas” \nBio: Peter is a Guadalupe County Master Gardener and Master Composter with the State of Texas Alliance of Recycling. He focuses on Earth-Kind practices which help plants thrive while conserving water and caring for the environment. Peter is actively engaged in environmental stewardship and conservation efforts with multiple groups in the greater San Antonio area. He has served on the board of the San Antonio Chapter of NPSOT\, is an Alamo Area Master Naturalist\, a member of the Audubon Society\, and serves on the Environmental Advisory Committee for the San Antonio River Authority among other roles. \nThe meeting is at the Headwaters of the Comal 333 E. Klingmann St. \n1 CE for attending talk
URL:https://comalmg.org/event/npsot-chapter-meeting-rooted-in-nature-composting-and-native-flora-of-texas/
LOCATION:Headwaters at the Comal\, 333 E. Klingermann\, New Braunfels\,\, TX\, 78130\, United States
END:VEVENT
BEGIN:VEVENT
DTSTART;TZID=America/Chicago:20260321T100000
DTEND;TZID=America/Chicago:20260321T110000
DTSTAMP:20260425T085619
CREATED:20260307T071513Z
LAST-MODIFIED:20260307T071843Z
UID:10001617-1774087200-1774090800@comalmg.org
SUMMARY:Monarchs & Milkweed at Milberger's Nursery
DESCRIPTION:Learn all about Monarch butterflies and the important role that milkweed plays in their exciting migration cycle. \nClass presented by Dr. Calvin Finch\, retired Director of Water Conservation and Technology at the Texas A&M University System. You will learn the most successful way for home gardeners to grow native milkweed so it can expand the number of monach egg-laying sites in the area and you will get to plant your own milkweed. \nFree Adult Seminar \n1 CE \nAlso presented on  Saturday\, March 28 at 9:30am\nAT: DEERC\, Dreamland Estates Education Resource Center\n6802 Dorothy Louise Dr. San Antonio\nCONTACT: Malcolm Coon 210-775-1824\nMalcolm@mc2studios.com
URL:https://comalmg.org/event/monarchs-milkweed-at-milbergers-nursery/
LOCATION:Milberger’s Landscaping & Nursery\,  3920 North Loop 1604\, \, San Antonio\, texas\, 78247
END:VEVENT
BEGIN:VEVENT
DTSTART;TZID=America/Chicago:20260321T084500
DTEND;TZID=America/Chicago:20260321T130000
DTSTAMP:20260425T085619
CREATED:20260307T072740Z
LAST-MODIFIED:20260307T072740Z
UID:10001618-1774082700-1774098000@comalmg.org
SUMMARY:Youth Garden Spring Educator Training Presented by Texas A&M AgriLife
DESCRIPTION:This training is designed for any educator interested in implementing gardening in the classroom or school gardens. Geared for beginners\, this training will cover gardening basics and spring planting. \nDue to capacity limitations\, we kindly ask that only one representative per school/organization register and attend the training. \nThis training is open to all educators interested in enhancing their instructional practices. Please note that the curriculum introduced during the session is specifically designed for educators working with students in grades 3-5. \nFor more information and to register click here. \n5 CEUs \nLocation \n\nGreenies Urban Farm\, 1615 Sherman\, San Antonio\, Texas 78202
URL:https://comalmg.org/event/youth-garden-spring-educator-training-presented-by-texas-am-agrilife/
LOCATION:TX
END:VEVENT
BEGIN:VEVENT
DTSTART;TZID=America/Chicago:20260319T183000
DTEND;TZID=America/Chicago:20260319T203000
DTSTAMP:20260425T085619
CREATED:20260307T055429Z
LAST-MODIFIED:20260307T055429Z
UID:10001603-1773945000-1773952200@comalmg.org
SUMMARY:Flower Arranging Night at Spring Creek Gardens
DESCRIPTION:Grab your girls and join us in Spring Branch for a fun\, hands-on flower arranging evening designed for laughter\, creativity\, and a little midweek magic. Whether you’re planning a girls’ night\, a mom’s night out\, or simply looking for something different to do\, this relaxed and social class is the perfect excuse to gather your favorite people. \nYou’ll learn tips and tricks from a professional florist from Everwild Floral while creating your own beautiful\, seasonal bouquet to take home. No experience is needed—just come ready to have fun. All flowers\, tools\, and vessels are provided\, so you can simply show up and enjoy the experience. \nSip wine\, get creative\, and enjoy 10% off in the Shoppe during the event as you browse and shop. \n$85 per person; Includes a $10 wine card; 10% off in the Shoppe during the event \n1 CE \nSpots are limited—grab your girls and reserve your seats today.
URL:https://comalmg.org/event/flower-arranging-night-at-spring-creek-gardens/
LOCATION:Spring Creek Gardens\, 11355 US-281 N\, Spring Branch\, TX\, 78070\, United States
END:VEVENT
BEGIN:VEVENT
DTSTART;TZID=America/Chicago:20260319T120000
DTEND;TZID=America/Chicago:20260319T130000
DTSTAMP:20260425T085619
CREATED:20260311T021523Z
LAST-MODIFIED:20260311T021523Z
UID:10001619-1773921600-1773925200@comalmg.org
SUMMARY:Garden Ridge Lunch and Learn Seminar
DESCRIPTION:Topic: Earth Kind – Best Practices for Gardening and Soil Preparation\n\nPresenters: Jill Lliteras and Rae Stromboe\n\nCE Hrs: 1
URL:https://comalmg.org/event/garden-ridge-lunch-and-learn-seminar/
LOCATION:Garden Ridge Library\, 9400 Municipal Pkwy\, Garden Ridge\, TX\, 78266\, United States
END:VEVENT
END:VCALENDAR