BEGIN:VCALENDAR
VERSION:2.0
PRODID:-//Comal Master Gardener - ECPv6.15.20//NONSGML v1.0//EN
CALSCALE:GREGORIAN
METHOD:PUBLISH
X-WR-CALNAME:Comal Master Gardener
X-ORIGINAL-URL:https://comalmg.org
X-WR-CALDESC:Events for Comal Master Gardener
REFRESH-INTERVAL;VALUE=DURATION:PT1H
X-Robots-Tag:noindex
X-PUBLISHED-TTL:PT1H
BEGIN:VTIMEZONE
TZID:America/Chicago
BEGIN:DAYLIGHT
TZOFFSETFROM:-0600
TZOFFSETTO:-0500
TZNAME:CDT
DTSTART:20250309T080000
END:DAYLIGHT
BEGIN:STANDARD
TZOFFSETFROM:-0500
TZOFFSETTO:-0600
TZNAME:CST
DTSTART:20251102T070000
END:STANDARD
BEGIN:DAYLIGHT
TZOFFSETFROM:-0600
TZOFFSETTO:-0500
TZNAME:CDT
DTSTART:20260308T080000
END:DAYLIGHT
BEGIN:STANDARD
TZOFFSETFROM:-0500
TZOFFSETTO:-0600
TZNAME:CST
DTSTART:20261101T070000
END:STANDARD
BEGIN:DAYLIGHT
TZOFFSETFROM:-0600
TZOFFSETTO:-0500
TZNAME:CDT
DTSTART:20270314T080000
END:DAYLIGHT
BEGIN:STANDARD
TZOFFSETFROM:-0500
TZOFFSETTO:-0600
TZNAME:CST
DTSTART:20271107T070000
END:STANDARD
BEGIN:DAYLIGHT
TZOFFSETFROM:-0600
TZOFFSETTO:-0500
TZNAME:CDT
DTSTART:20280312T080000
END:DAYLIGHT
BEGIN:STANDARD
TZOFFSETFROM:-0500
TZOFFSETTO:-0600
TZNAME:CST
DTSTART:20281105T070000
END:STANDARD
END:VTIMEZONE
BEGIN:VEVENT
DTSTART;TZID=America/Chicago:20260923T120000
DTEND;TZID=America/Chicago:20260923T130000
DTSTAMP:20260424T005408
CREATED:20260210T183311Z
LAST-MODIFIED:20260210T183311Z
UID:10001594-1790164800-1790168400@comalmg.org
SUMMARY:Entomology Online with Molly Keck
DESCRIPTION:Join Molly Keck\, Texas AgriLife Extension Integrated Pest Management Program Specialist\, for her monthly lunchtime entomology update.  \nClick here to find the link to join in the session. \n\nSeptember – Butterflies and Butterfly Gardening \nFUTURE VIRTUAL PRESENTATIONS\, LAST WEDNESDAY OF THE MONTH AT 12PM CT\nJune & July – (No Webinars)\nSeptember – Butterflies and Butterfly Gardening\nOctober – Spooky and Cool Spiders \n1 CE per session
URL:https://comalmg.org/event/entomology-online-with-molly-keck-6/
LOCATION:Webinar
END:VEVENT
BEGIN:VEVENT
DTSTART;TZID=America/Chicago:20261028T120000
DTEND;TZID=America/Chicago:20261028T130000
DTSTAMP:20260424T005408
CREATED:20260210T190008Z
LAST-MODIFIED:20260210T190008Z
UID:10001596-1793188800-1793192400@comalmg.org
SUMMARY:Entomology Online with Molly Keck
DESCRIPTION:Join Molly Keck\, Texas AgriLife Extension Integrated Pest Management Program Specialist\, for her monthly lunchtime entomology update.  \nClick here to find the link to join in the session. \n\nOctober – Spooky and Cool Spiders \nFUTURE VIRTUAL PRESENTATIONS\, LAST WEDNESDAY OF THE MONTH AT 12PM CT\nJune & July – (No Webinars)\nOctober – Spooky and Cool Spiders \n1 CE per session
URL:https://comalmg.org/event/entomology-online-with-molly-keck-7/
LOCATION:Webinar
END:VEVENT
BEGIN:VEVENT
DTSTART;TZID=America/Chicago:20270302T080000
DTEND;TZID=America/Chicago:20270302T170000
DTSTAMP:20260424T005408
CREATED:20260311T023544Z
LAST-MODIFIED:20260311T023544Z
UID:10001622-1803974400-1804006800@comalmg.org
SUMMARY:2027 CMG Spring Seminar--Save the Date!
DESCRIPTION:Details coming soon.
URL:https://comalmg.org/event/2027-cmg-spring-seminar-save-the-date-2/
LOCATION:TX
END:VEVENT
END:VCALENDAR