BEGIN:VCALENDAR
VERSION:2.0
PRODID:-//Comal Master Gardener - ECPv6.15.20//NONSGML v1.0//EN
CALSCALE:GREGORIAN
METHOD:PUBLISH
X-WR-CALNAME:Comal Master Gardener
X-ORIGINAL-URL:https://comalmg.org
X-WR-CALDESC:Events for Comal Master Gardener
REFRESH-INTERVAL;VALUE=DURATION:PT1H
X-Robots-Tag:noindex
X-PUBLISHED-TTL:PT1H
BEGIN:VTIMEZONE
TZID:America/Chicago
BEGIN:DAYLIGHT
TZOFFSETFROM:-0600
TZOFFSETTO:-0500
TZNAME:CDT
DTSTART:20250309T080000
END:DAYLIGHT
BEGIN:STANDARD
TZOFFSETFROM:-0500
TZOFFSETTO:-0600
TZNAME:CST
DTSTART:20251102T070000
END:STANDARD
BEGIN:DAYLIGHT
TZOFFSETFROM:-0600
TZOFFSETTO:-0500
TZNAME:CDT
DTSTART:20260308T080000
END:DAYLIGHT
BEGIN:STANDARD
TZOFFSETFROM:-0500
TZOFFSETTO:-0600
TZNAME:CST
DTSTART:20261101T070000
END:STANDARD
BEGIN:DAYLIGHT
TZOFFSETFROM:-0600
TZOFFSETTO:-0500
TZNAME:CDT
DTSTART:20270314T080000
END:DAYLIGHT
BEGIN:STANDARD
TZOFFSETFROM:-0500
TZOFFSETTO:-0600
TZNAME:CST
DTSTART:20271107T070000
END:STANDARD
END:VTIMEZONE
BEGIN:VEVENT
DTSTART;TZID=America/Chicago:20260225T120000
DTEND;TZID=America/Chicago:20260225T130000
DTSTAMP:20260425T084139
CREATED:20260210T181704Z
LAST-MODIFIED:20260210T181704Z
UID:10001589-1772020800-1772024400@comalmg.org
SUMMARY:Entomology Online with Molly Keck
DESCRIPTION:Join Molly Keck\, Texas AgriLife Extension Integrated Pest Management Program Specialist\, for her monthly lunchtime entomology update.  \nClick here to find the link to join in the session. \n\nFebruary – The Forgotten Good Guys – Decomposers \nFUTURE VIRTUAL PRESENTATIONS\, LAST WEDNESDAY OF THE MONTH AT 12PM CT\nMarch – Encouraging and Identifying Native Bees\nApril – Invasive Insects to Watch\nMay – Sci-Fi Insects – Parasitoids\nJune & July – (No Webinars)\nAugust – Dragonflies of Texas\nSeptember – Butterflies and Butterfly Gardening\nOctober – Spooky and Cool Spiders \n1 CE per session
URL:https://comalmg.org/event/entomology-online-with-molly-keck/
LOCATION:Webinar
END:VEVENT
BEGIN:VEVENT
DTSTART;TZID=America/Chicago:20260223T174500
DTEND;TZID=America/Chicago:20260223T194500
DTSTAMP:20260425T084139
CREATED:20260210T162124Z
LAST-MODIFIED:20260210T162124Z
UID:10001582-1771868700-1771875900@comalmg.org
SUMMARY:Native Plant Society of Texas New Braunfels February Meeting
DESCRIPTION:The NPSOT will be meeting at Headwaters at the Comal.\n\nSpeaker:\nAshley Landry – “In the Path of Development: Planting Seeds for the Future”\n\n1 CE for attending the talk.
URL:https://comalmg.org/event/native-plant-society-of-texas-new-braunfels-february-meeting/
LOCATION:Headwaters at the Comal\, 333 E. Klingermann\, New Braunfels\,\, TX\, 78130\, United States
END:VEVENT
BEGIN:VEVENT
DTSTART;TZID=America/Chicago:20260219T120000
DTEND;TZID=America/Chicago:20260219T130000
DTSTAMP:20260425T084139
CREATED:20260213T133257Z
LAST-MODIFIED:20260213T133257Z
UID:10001597-1771502400-1771506000@comalmg.org
SUMMARY:Garden Ridge Library Lunch and Learn February 2026
DESCRIPTION:Topic: Propagation Beyond the Seed and Viable Seed Testing\n\nGuest Speakers: Rose Payne and Kelly Stinnett\n\nSurprise plants and giveaways will also be given out after the  presentation.\n\n1 CE\n\nFor more information contact Garden Ridge Library\, Wendy Bippert at 210-651-6570.
URL:https://comalmg.org/event/garden-ridge-library-lunch-and-learn-february-2026/
LOCATION:Garden Ridge Library\, 9400 Municipal Pkwy\, Garden Ridge\, TX\, 78266\, United States
END:VEVENT
BEGIN:VEVENT
DTSTART;TZID=America/Chicago:20260219T090000
DTEND;TZID=America/Chicago:20260219T140000
DTSTAMP:20260425T084139
CREATED:20260210T172812Z
LAST-MODIFIED:20260210T172812Z
UID:10001585-1771491600-1771509600@comalmg.org
SUMMARY:Tomato Round-Up at Greenie's Urban Farm in San Antonio
DESCRIPTION:Click here for more information\, including classes (1 CE per class attended)\, events\, and opportunity to order the 2026 Rodeo Tomato Polbig F1 Hybrid while available. \nGreenies Urban Farm is located at 1615 Sherman Street\, San Antonio\, TX 78202.
URL:https://comalmg.org/event/tomato-round-up-at-greenies-urban-farm-in-san-antonio/
LOCATION:TX
ORGANIZER;CN="Bexar County Master Gardeners":MAILTO:President@bexarmg.org
END:VEVENT
BEGIN:VEVENT
DTSTART;TZID=America/Chicago:20260218T113000
DTEND;TZID=America/Chicago:20260218T123000
DTSTAMP:20260425T084139
CREATED:20260210T180756Z
LAST-MODIFIED:20260210T180756Z
UID:10001588-1771414200-1771417800@comalmg.org
SUMMARY:Dig It: Spring Into Landscape Gardening
DESCRIPTION:Join San Antonio Public Library and Bexar County Master Gardeners for the Dig it! seminar. Grow your mind as you hear from local experts on a variety of spring gardening topics and have an opportunity to ask questions. Let’s dig it. \n\nPresenter: Grace Emery\, Bexar County Master Gardeners \n“Spring Into Landscape Gardening” — Spring is the season for renewal\, and that includes our gardens. There are gardening practices that will set up your landscape beds and lawns for strong spring growth and beautiful blooms. In this 60-minute presentation for beginning gardeners\, participants will learn about important tasks to complete to refresh\, to renew\, and to revitalize their garden. Topics will include soil improvement\, mulching\, weeding\, planting\, and fertilizing lawns and gardens. \n1 CE
URL:https://comalmg.org/event/dig-it-spring-into-landscape-gardening/
LOCATION:Potranco Branch Library\, 8765 State Highway 151\, San Antonio\, 78245
ORGANIZER;CN="Bexar County Master Gardeners":MAILTO:President@bexarmg.org
END:VEVENT
BEGIN:VEVENT
DTSTART;TZID=America/Chicago:20260215T080000
DTEND;TZID=America/Chicago:20260215T170000
DTSTAMP:20260425T084139
CREATED:20260210T175607Z
LAST-MODIFIED:20260210T175607Z
UID:10001587-1771142400-1771174800@comalmg.org
SUMMARY:Podcast: Rooted in Research--A Guide to Successful Gardening in the San Antonio Area
DESCRIPTION:Host: Bexar County Master Gardener Association \nThis new program blends cutting-edge research\, practical application\, and flexible resources focusing on gardening essentials. Episode lengths will vary.\nBill Swanter will speak on the first of the month; special speakers and experts will be hosted on the 15th.\nPrior sessions will be retained on Spotify for future reference and consultation. \nYou will need a Spotify account to access these informational presentations. \nClick here (scroll down the list of events on the left side of the page to see the full agenda) for the agenda (podcasts began January 1) and more information. If the topic on the agenda is colored\, it has been recorded and you can click on it for a direct link to the episode. \n1 CE for each episode attended. \n 
URL:https://comalmg.org/event/podcast-rooted-in-research-a-guide-to-successful-gardening-in-the-san-antonio-area/
LOCATION:TX
ORGANIZER;CN="Bexar County Master Gardeners":MAILTO:President@bexarmg.org
END:VEVENT
BEGIN:VEVENT
DTSTART;TZID=America/Chicago:20260213T120000
DTEND;TZID=America/Chicago:20260213T130000
DTSTAMP:20260425T084139
CREATED:20260210T173748Z
LAST-MODIFIED:20260210T173748Z
UID:10001586-1770984000-1770987600@comalmg.org
SUMMARY:Lunch & Learn--Bexar County Master Gardners
DESCRIPTION:Join Bexar County Master Gardener Michelle Haney for a lunch-hour presentation on Turfgrass. \n\nPlease sign in with the receptionist upon arrival. \n\nClick here for more information. \n\n1 CE
URL:https://comalmg.org/event/lunch-learn-bexar-county-master-gardners/
LOCATION:Bexar County AgriLife Urban Farm “Greenies”\, 1615 Sherman\, San Antonio\, TX\, 78202\, United States
ORGANIZER;CN="Bexar County Master Gardeners":MAILTO:President@bexarmg.org
END:VEVENT
BEGIN:VEVENT
DTSTART;TZID=America/Chicago:20260210T170000
DTEND;TZID=America/Chicago:20260210T190000
DTSTAMP:20260425T084139
CREATED:20251120T142347Z
LAST-MODIFIED:20251120T145201Z
UID:10001565-1770742800-1770750000@comalmg.org
SUMMARY:CMG General Meeting February 2026
DESCRIPTION:5:00 Social\n5:30 Business Meeting\n6:00 Speaker: Eleni Petitsas\,  Comal County Extension Agent — horticulture. Petitsas  has a bachelor of science in horticulture from Texas A&M University\, experience in Texas viticulture (including at Grape Creek Vineyards)\, work with research vineyards\, and prior roles supporting agricultural programs at nonprofit and community organizations. Her focus is horticultural education\, environmental stewardship\, resiliency\, and community outreach in Comal County.\n\n1 VH for attending business meeting\n1 CE for attending speaker event
URL:https://comalmg.org/event/cmg-general-meeting-february-2026/
LOCATION:Mammen Family Public Library\, 131 Bulverde Crossing\, TX 78163\, Bulverde\, TX\, 78163\, United States
END:VEVENT
BEGIN:VEVENT
DTSTART;TZID=America/Chicago:20260207T110000
DTEND;TZID=America/Chicago:20260207T120000
DTSTAMP:20260425T084139
CREATED:20260204T225736Z
LAST-MODIFIED:20260204T225736Z
UID:10001579-1770462000-1770465600@comalmg.org
SUMMARY:BUILDING A GARDEN TO FIT YOUR SPACE
DESCRIPTION:Build a garden that works for your space.\n\nAttend a seminar at Spring Creek Gardens to learn practical tips\, ask questions\, and get inspired—whether you’re gardening in a yard\, patio\, or small indoor area.\n\n\nThis event is free\, but you must sign up to attend.  Click here.\n\n1 CE
URL:https://comalmg.org/event/building-a-garden-to-fit-your-space/
LOCATION:Spring Creek Gardens\, 11355 US-281 N\, Spring Branch\, TX\, 78070\, United States
END:VEVENT
BEGIN:VEVENT
DTSTART;TZID=America/Chicago:20260207T090000
DTEND;TZID=America/Chicago:20260207T100000
DTSTAMP:20260425T084139
CREATED:20260204T154736Z
LAST-MODIFIED:20260204T155443Z
UID:10001574-1770454800-1770458400@comalmg.org
SUMMARY:Vegetable Gardening 101 at Green Jay Gardens
DESCRIPTION:Vegetable gardening in Central Texas can be tough! \n\n\nJoin Emily Hunter as she discusses the basics of successful vegetable gardening in Central Texas\, from building beds\, to which soil and compost to buy\, plant choices\, and the best times to plant.  \n​This is a great opportunity to get together with other gardeners and learn from each what works and how to get the most produce out of our backyard gardens. \nCLASS IS FREE TO THE PUBLIC \nNO RSVP NECESSARY \n*Complimentary Coffee & Don
URL:https://comalmg.org/event/vegetable-gardening-101-at-green-jay-gardens/
LOCATION:Green Jay Gardens\, 100 Elm Grove Road\, Seguin\, 78153\, United States
END:VEVENT
BEGIN:VEVENT
DTSTART;TZID=America/Chicago:20260131T090000
DTEND;TZID=America/Chicago:20260131T120000
DTSTAMP:20260425T084139
CREATED:20260120T211614Z
LAST-MODIFIED:20260120T211614Z
UID:10001569-1769850000-1769860800@comalmg.org
SUMMARY:Fruit Tree Basics Seminar--Fanick's Garden Center\, Inc.
DESCRIPTION:Fruit Tree Basics Seminar\nDr. Larry Stein from the Texas AgriLife Extension service will demonstrate how to properly select\, plant\, and prune fruit\, nut\, citrus\, berries\, and grapes for maximum production. \nIn this free seminar you will learn about the overall maintenance and care of your plant before\, during\, and after harvest. \nPlease arrive early for best seating and dress for the weather as this will be held outside under a covered building. \n3 CEs
URL:https://comalmg.org/event/fruit-tree-basics-seminar-fanicks-garden-center-inc/
LOCATION:Fanick’s Garden Center\, 1025 Holmgreen Rd\, San Antonio\, TX\, 78220\, United States
END:VEVENT
END:VCALENDAR