BEGIN:VCALENDAR
VERSION:2.0
PRODID:-//Comal Master Gardener - ECPv6.15.20//NONSGML v1.0//EN
CALSCALE:GREGORIAN
METHOD:PUBLISH
X-WR-CALNAME:Comal Master Gardener
X-ORIGINAL-URL:https://comalmg.org
X-WR-CALDESC:Events for Comal Master Gardener
REFRESH-INTERVAL;VALUE=DURATION:PT1H
X-Robots-Tag:noindex
X-PUBLISHED-TTL:PT1H
BEGIN:VTIMEZONE
TZID:America/Chicago
BEGIN:DAYLIGHT
TZOFFSETFROM:-0600
TZOFFSETTO:-0500
TZNAME:CDT
DTSTART:20250309T080000
END:DAYLIGHT
BEGIN:STANDARD
TZOFFSETFROM:-0500
TZOFFSETTO:-0600
TZNAME:CST
DTSTART:20251102T070000
END:STANDARD
BEGIN:DAYLIGHT
TZOFFSETFROM:-0600
TZOFFSETTO:-0500
TZNAME:CDT
DTSTART:20260308T080000
END:DAYLIGHT
BEGIN:STANDARD
TZOFFSETFROM:-0500
TZOFFSETTO:-0600
TZNAME:CST
DTSTART:20261101T070000
END:STANDARD
BEGIN:DAYLIGHT
TZOFFSETFROM:-0600
TZOFFSETTO:-0500
TZNAME:CDT
DTSTART:20270314T080000
END:DAYLIGHT
BEGIN:STANDARD
TZOFFSETFROM:-0500
TZOFFSETTO:-0600
TZNAME:CST
DTSTART:20271107T070000
END:STANDARD
END:VTIMEZONE
BEGIN:VEVENT
DTSTART;TZID=America/Chicago:20260213T120000
DTEND;TZID=America/Chicago:20260213T130000
DTSTAMP:20260424T095615
CREATED:20260210T173748Z
LAST-MODIFIED:20260210T173748Z
UID:10001586-1770984000-1770987600@comalmg.org
SUMMARY:Lunch & Learn--Bexar County Master Gardners
DESCRIPTION:Join Bexar County Master Gardener Michelle Haney for a lunch-hour presentation on Turfgrass. \n\nPlease sign in with the receptionist upon arrival. \n\nClick here for more information. \n\n1 CE
URL:https://comalmg.org/event/lunch-learn-bexar-county-master-gardners/
LOCATION:Bexar County AgriLife Urban Farm “Greenies”\, 1615 Sherman\, San Antonio\, TX\, 78202\, United States
ORGANIZER;CN="Bexar County Master Gardeners":MAILTO:President@bexarmg.org
END:VEVENT
END:VCALENDAR