BEGIN:VCALENDAR
VERSION:2.0
PRODID:-//Comal Master Gardener - ECPv6.15.20//NONSGML v1.0//EN
CALSCALE:GREGORIAN
METHOD:PUBLISH
X-ORIGINAL-URL:https://comalmg.org
X-WR-CALDESC:Events for Comal Master Gardener
REFRESH-INTERVAL;VALUE=DURATION:PT1H
X-Robots-Tag:noindex
X-PUBLISHED-TTL:PT1H
BEGIN:VTIMEZONE
TZID:America/Chicago
BEGIN:DAYLIGHT
TZOFFSETFROM:-0600
TZOFFSETTO:-0500
TZNAME:CDT
DTSTART:20250309T080000
END:DAYLIGHT
BEGIN:STANDARD
TZOFFSETFROM:-0500
TZOFFSETTO:-0600
TZNAME:CST
DTSTART:20251102T070000
END:STANDARD
BEGIN:DAYLIGHT
TZOFFSETFROM:-0600
TZOFFSETTO:-0500
TZNAME:CDT
DTSTART:20260308T080000
END:DAYLIGHT
BEGIN:STANDARD
TZOFFSETFROM:-0500
TZOFFSETTO:-0600
TZNAME:CST
DTSTART:20261101T070000
END:STANDARD
BEGIN:DAYLIGHT
TZOFFSETFROM:-0600
TZOFFSETTO:-0500
TZNAME:CDT
DTSTART:20270314T080000
END:DAYLIGHT
BEGIN:STANDARD
TZOFFSETFROM:-0500
TZOFFSETTO:-0600
TZNAME:CST
DTSTART:20271107T070000
END:STANDARD
END:VTIMEZONE
BEGIN:VEVENT
DTSTART;TZID=America/Chicago:20260218T113000
DTEND;TZID=America/Chicago:20260218T123000
DTSTAMP:20260424T095447
CREATED:20260210T180756Z
LAST-MODIFIED:20260210T180756Z
UID:10001588-1771414200-1771417800@comalmg.org
SUMMARY:Dig It: Spring Into Landscape Gardening
DESCRIPTION:Join San Antonio Public Library and Bexar County Master Gardeners for the Dig it! seminar. Grow your mind as you hear from local experts on a variety of spring gardening topics and have an opportunity to ask questions. Let’s dig it. \n\nPresenter: Grace Emery\, Bexar County Master Gardeners \n“Spring Into Landscape Gardening” — Spring is the season for renewal\, and that includes our gardens. There are gardening practices that will set up your landscape beds and lawns for strong spring growth and beautiful blooms. In this 60-minute presentation for beginning gardeners\, participants will learn about important tasks to complete to refresh\, to renew\, and to revitalize their garden. Topics will include soil improvement\, mulching\, weeding\, planting\, and fertilizing lawns and gardens. \n1 CE
URL:https://comalmg.org/event/dig-it-spring-into-landscape-gardening/
LOCATION:Potranco Branch Library\, 8765 State Highway 151\, San Antonio\, 78245
ORGANIZER;CN="Bexar County Master Gardeners":MAILTO:President@bexarmg.org
END:VEVENT
END:VCALENDAR